BEGIN:VCALENDAR
VERSION:2.0
PRODID:-//ChamberMaster//Event Calendar 2.0//EN
METHOD:PUBLISH
X-PUBLISHED-TTL:P3D
REFRESH-INTERVAL:P3D
CALSCALE:GREGORIAN
BEGIN:VEVENT
DTSTART:20200428T190000Z
DTEND:20200428T210000Z
X-MICROSOFT-CDO-ALLDAYEVENT:FALSE
SUMMARY:Zoom Meeting with Sharron Johnson\, US Small Business Admin.
DESCRIPTION:Zoom Meeting with Sharron Johnson\, U.S. Small Business Administration\,  regarding pending EIDL Loan Applications and other COVID-19 Small Business Resources
X-ALT-DESC;FMTTYPE=text/html:Zoom Meeting with Sharron Johnson\, U.S. Small Business Administration\,&nbsp\; regarding pending EIDL Loan Applications and other COVID-19 Small Business Resources
LOCATION:Zoom Meeting - see Email Information to access the zoom call. Join Zoom Meeting https://us02web.zoom.us/j/87205929459?pwd=TWNNS0txa2NkZVBSbXRONUJJek9yUT09
UID:e.1578.4171
SEQUENCE:3
DTSTAMP:20260421T214051Z
URL:https://business.hopkinschamber.com/events/details/zoom-meeting-with-sharron-johnson-us-small-business-admin-4171
END:VEVENT

END:VCALENDAR
