BEGIN:VCALENDAR
VERSION:2.0
PRODID:-//ChamberMaster//Event Calendar 2.0//EN
METHOD:PUBLISH
X-PUBLISHED-TTL:P3D
REFRESH-INTERVAL:P3D
CALSCALE:GREGORIAN
BEGIN:VEVENT
DTSTART:20290314T000000Z
DTEND:20290314T010000Z
X-MICROSOFT-CDO-ALLDAYEVENT:FALSE
SUMMARY:White Plains City Commission
DESCRIPTION:
X-ALT-DESC;FMTTYPE=text/html:
LOCATION:
UID:e.1578.3552
SEQUENCE:3
DTSTAMP:20260422T002523Z
URL:https://business.hopkinschamber.com/events/details/white-plains-city-commission-03-13-2029-3552
END:VEVENT

END:VCALENDAR
