BEGIN:VCALENDAR
VERSION:2.0
PRODID:-//ChamberMaster//Event Calendar 2.0//EN
METHOD:PUBLISH
X-PUBLISHED-TTL:P3D
REFRESH-INTERVAL:P3D
CALSCALE:GREGORIAN
BEGIN:VEVENT
DTSTART:20140211T190000Z
DTEND:20140212T040000Z
X-MICROSOFT-CDO-ALLDAYEVENT:FALSE
SUMMARY:West Kentucky Thank You Night
DESCRIPTION:Ride the Chamber charter bus to West Kentucky Thank You Night at the Frankfort Convention Center in Frankfort\, Ky. and help us personally thank our state officials for supporting legislation vital to western Kentucky. The event takes place from 5-7 p.m. EST. Some of western Kentucky's finest barbecue restaurants will be serving up their signature foods.
X-ALT-DESC;FMTTYPE=text/html:Ride the Chamber charter bus to West Kentucky Thank You Night at the Frankfort Convention Center in Frankfort\, Ky. and help us personally thank our state&nbsp\;officials for supporting legislation vital to western Kentucky. The event takes place from 5-7 p.m.&nbsp\;EST. Some of western Kentucky&#39\;s finest barbecue restaurants will be serving up their signature foods.
LOCATION:Frankfort Convention Center\, Frankfort\, Kentucky
UID:e.1578.408
SEQUENCE:3
DTSTAMP:20260421T082203Z
URL:https://business.hopkinschamber.com/events/details/west-kentucky-thank-you-night-02-11-2014-408
END:VEVENT

END:VCALENDAR
