BEGIN:VCALENDAR
VERSION:2.0
PRODID:-//ChamberMaster//Event Calendar 2.0//EN
METHOD:PUBLISH
X-PUBLISHED-TTL:P3D
REFRESH-INTERVAL:P3D
CALSCALE:GREGORIAN
BEGIN:VEVENT
DTSTART:20140927T140000Z
DTEND:20140927T150000Z
X-MICROSOFT-CDO-ALLDAYEVENT:FALSE
SUMMARY:Walk for Life
DESCRIPTION:Door of Hope Pregnancy Care Center Invites you to participate in their annual WALK FOR LIFE Fund Raiser SAT. SEPT. 27 @ 9 a.m. Beginning at First United Methodist Church\, Madisonville Contact Door of Hope 270-821-9825 or comdirector@bellsouth.net For your Walk brochure
X-ALT-DESC;FMTTYPE=text/html:Door of Hope Pregnancy Care Center Invites you to participate in their annual WALK FOR LIFE Fund Raiser SAT. SEPT. 27 @ 9 a.m. Beginning at First United Methodist Church\, Madisonville Contact Door of Hope 270-821-9825 or comdirector@bellsouth.net For your Walk brochure
LOCATION:First United Methodist Church 200 E Center St Madisonville\, KY 42431
UID:e.1578.465
SEQUENCE:3
DTSTAMP:20260425T153648Z
URL:https://business.hopkinschamber.com/events/details/walk-for-life-09-27-2014-465
END:VEVENT

END:VCALENDAR
