BEGIN:VCALENDAR
VERSION:2.0
PRODID:-//ChamberMaster//Event Calendar 2.0//EN
METHOD:PUBLISH
X-PUBLISHED-TTL:P3D
REFRESH-INTERVAL:P3D
CALSCALE:GREGORIAN
BEGIN:VEVENT
DTSTART;VALUE=DATE:20211030
DTEND;VALUE=DATE:20211031
TRANSP:TRANSPARENT
X-MICROSOFT-CDO-ALLDAYEVENT:TRUE
SUMMARY:Virtual Ghost 5K
DESCRIPTION:It's that time of year again! The Hopkins County Community Clinic's presents Run for Your Lives- Virtual Ghost 5k!\n\n\n\n\nSign up and receive a t-shirt. All proceeds go to support our mission of providing medical and pharmaceutical care to the uninsured and under-insured citizens of Hopkins County and surrounding areas!
X-ALT-DESC;FMTTYPE=text/html:<div class="kvgmc6g5 cxmmr5t8 oygrvhab hcukyx3x c1et5uql ii04i59q" style="font-family: Roboto\; font-size: 16px\; background-attachment: unset !important\;">\n<div dir="auto" style="background-attachment: unset !important\;">\n<p style="margin-top: calc(1rem * var(--rps-global-vertical-space) * var(--rps-global-line-height))\; margin-bottom: calc(1rem * var(--rps-global-vertical-space) * var(--rps-global-line-height))\; line-height: 1.4em\; background-attachment: unset !important\;">It&rsquo\;s that time of year again! The Hopkins County Community Clinic&rsquo\;s presents Run for Your Lives- Virtual Ghost 5k!</p>\n</div>\n</div>\n\n<div class="o9v6fnle cxmmr5t8 oygrvhab hcukyx3x c1et5uql ii04i59q" style="font-family: Roboto\; font-size: 16px\; background-attachment: unset !important\;">\n<div dir="auto" style="background-attachment: unset !important\;">Sign up and receive a t-shirt. All proceeds go to support our mission of providing medical and pharmaceutical care to the uninsured and under-insured citizens of Hopkins County and surrounding areas!</div>\n</div>\n
LOCATION:Virtual
UID:e.1578.5299
SEQUENCE:3
DTSTAMP:20260421T150110Z
URL:https://business.hopkinschamber.com/events/details/virtual-ghost-5k-5299
END:VEVENT

END:VCALENDAR
