BEGIN:VCALENDAR
VERSION:2.0
PRODID:-//ChamberMaster//Event Calendar 2.0//EN
METHOD:PUBLISH
X-PUBLISHED-TTL:P3D
REFRESH-INTERVAL:P3D
CALSCALE:GREGORIAN
BEGIN:VEVENT
DTSTART:20211027T230000Z
DTEND:20211028T003000Z
X-MICROSOFT-CDO-ALLDAYEVENT:FALSE
SUMMARY:Trunk-R-Treat
DESCRIPTION:Join Christian Assembly for their annual Trunk-R-Treat on Wed\, October 27th\, at Christian Assembly from 6:00-7:30. They will have trunks decorated\, games\, lots of candy\, and prizes for newborns to 5th grade.
X-ALT-DESC;FMTTYPE=text/html:<span style="font-family: Roboto\; font-size: 16px\;">Join Christian Assembly for their annual Trunk-R-Treat on Wed\, October 27th\, at Christian Assembly from 6:00-7:30. They will have trunks decorated\, games\, lots of candy\, and prizes for newborns to 5th grade.</span>
LOCATION:Christian Assembly 3600 Hanson Road\, Madisonville KY\, 42431
UID:e.1578.5297
SEQUENCE:3
DTSTAMP:20260421T150331Z
URL:https://business.hopkinschamber.com/events/details/trunk-r-treat-5297
END:VEVENT

END:VCALENDAR
