BEGIN:VCALENDAR
VERSION:2.0
PRODID:-//ChamberMaster//Event Calendar 2.0//EN
METHOD:PUBLISH
X-PUBLISHED-TTL:P3D
REFRESH-INTERVAL:P3D
CALSCALE:GREGORIAN
BEGIN:VEVENT
DTSTART:20211031T220000Z
DTEND:20211101T000000Z
X-MICROSOFT-CDO-ALLDAYEVENT:FALSE
SUMMARY:Trunk or Treat
DESCRIPTION:Lone Star Church will be having a Trunk-or-Treat on Halloween night\, Oct. 31st\, from 5pm to 7pm. Free hot chocolate\, apple nachos\, popcorn and lots of CANDY!
X-ALT-DESC;FMTTYPE=text/html:<span style="font-family: Roboto\; font-size: 16px\;">Lone Star Church will be having a Trunk-or-Treat on Halloween night\, Oct. 31st\, from 5pm to 7pm. Free hot chocolate\, apple nachos\, popcorn and lots of CANDY!&nbsp\;</span>
LOCATION:Lone Star Church 2821 Anton Road\, Madisonville KY 42431
UID:e.1578.5307
SEQUENCE:3
DTSTAMP:20260421T180149Z
URL:https://business.hopkinschamber.com/events/details/trunk-or-treat-5307
END:VEVENT

END:VCALENDAR
