BEGIN:VCALENDAR
VERSION:2.0
PRODID:-//ChamberMaster//Event Calendar 2.0//EN
METHOD:PUBLISH
X-PUBLISHED-TTL:P3D
REFRESH-INTERVAL:P3D
CALSCALE:GREGORIAN
BEGIN:VEVENT
DTSTART:20211031T200000Z
DTEND:20211101T000000Z
X-MICROSOFT-CDO-ALLDAYEVENT:FALSE
SUMMARY:Trunk or Treat
DESCRIPTION:Join Rose Creek CPC for their 5th annual trunk-or-treat! Held rain or shine. Plenty of goodies for ghosts and ghouls of all ages.
X-ALT-DESC;FMTTYPE=text/html:<span style="font-family: Roboto\; font-size: 16px\;">Join Rose Creek CPC for their 5th annual trunk-or-treat! Held rain or shine. Plenty of goodies for ghosts and ghouls of all ages.&nbsp\;</span>
LOCATION:Rose Creek Cumberland Presbyterian Church 7220 Rose Creek Rd. Nebo KY 42441
UID:e.1578.5305
SEQUENCE:3
DTSTAMP:20260421T180148Z
URL:https://business.hopkinschamber.com/events/details/trunk-or-treat-5305
END:VEVENT

END:VCALENDAR
