BEGIN:VCALENDAR
VERSION:2.0
PRODID:-//ChamberMaster//Event Calendar 2.0//EN
METHOD:PUBLISH
X-PUBLISHED-TTL:P3D
REFRESH-INTERVAL:P3D
CALSCALE:GREGORIAN
BEGIN:VEVENT
DTSTART:20211030T233000Z
DTEND:20211031T013000Z
X-MICROSOFT-CDO-ALLDAYEVENT:FALSE
SUMMARY:Trunk or Treat
DESCRIPTION:Bethany Baptist will be serving chili\, soups\, and sandwiches in their fellowship hall!
X-ALT-DESC;FMTTYPE=text/html:<p style="margin-top: calc(1rem * var(--rps-global-vertical-space) * var(--rps-global-line-height))\; margin-bottom: calc(1rem * var(--rps-global-vertical-space) * var(--rps-global-line-height))\; line-height: 1.4em\; font-family: Roboto\; font-size: 16px\; background-attachment: unset !important\;">Bethany Baptist will be serving chili\, soups\, and sandwiches in their fellowship hall!</p>\n
LOCATION:Meadowlark Lane\, Madisonville KY 42431
UID:e.1578.5303
SEQUENCE:3
DTSTAMP:20260421T180855Z
URL:https://business.hopkinschamber.com/events/details/trunk-or-treat-5303
END:VEVENT

END:VCALENDAR
