BEGIN:VCALENDAR
VERSION:2.0
PRODID:-//ChamberMaster//Event Calendar 2.0//EN
METHOD:PUBLISH
X-PUBLISHED-TTL:P3D
REFRESH-INTERVAL:P3D
CALSCALE:GREGORIAN
BEGIN:VEVENT
DTSTART:20211030T200000Z
DTEND:20211030T230000Z
X-MICROSOFT-CDO-ALLDAYEVENT:FALSE
SUMMARY:Trunk or Treat
DESCRIPTION:Sanctuary Church in Nortonville\, KY is hosting a Trunk or Treat event with free goodies\, face painting\, hair painting\, concessions for sale\, cake walk\, silent auction\, and more!
X-ALT-DESC;FMTTYPE=text/html:<span style="font-family: Roboto\; font-size: 16px\;">Sanctuary Church in Nortonville\, KY is hosting a Trunk or Treat event with free goodies\, face painting\, hair painting\, concessions for sale\, cake walk\, silent auction\, and more!&nbsp\;</span>
LOCATION:Sanctuary Church 56 S. Oak St. Nortonville KY 42431
UID:e.1578.5302
SEQUENCE:3
DTSTAMP:20260421T152419Z
URL:https://business.hopkinschamber.com/events/details/trunk-or-treat-5302
END:VEVENT

END:VCALENDAR
