BEGIN:VCALENDAR
VERSION:2.0
PRODID:-//ChamberMaster//Event Calendar 2.0//EN
METHOD:PUBLISH
X-PUBLISHED-TTL:P3D
REFRESH-INTERVAL:P3D
CALSCALE:GREGORIAN
BEGIN:VEVENT
DTSTART:20210915T170000Z
DTEND:20210915T180000Z
X-MICROSOFT-CDO-ALLDAYEVENT:FALSE
SUMMARY:Tri County Elder Abuse Council Meeting
DESCRIPTION:
X-ALT-DESC;FMTTYPE=text/html:
LOCATION:This meeting is virtual via Zoom.
UID:e.1578.5263
SEQUENCE:3
DTSTAMP:20260424T085131Z
URL:https://business.hopkinschamber.com/events/details/tri-county-elder-abuse-council-meeting-5263
END:VEVENT

END:VCALENDAR
