BEGIN:VCALENDAR
VERSION:2.0
PRODID:-//ChamberMaster//Event Calendar 2.0//EN
METHOD:PUBLISH
X-PUBLISHED-TTL:P3D
REFRESH-INTERVAL:P3D
CALSCALE:GREGORIAN
BEGIN:VEVENT
DTSTART:20211118T140000Z
DTEND:20211118T180000Z
X-MICROSOFT-CDO-ALLDAYEVENT:FALSE
SUMMARY:Time To Compete Tour
DESCRIPTION:Join the Kentucky Chamber and the Hopkins County Chamber for an interactive discussion on what makes your region competitive for business and how we can improve your competitiveness.\n\nKentucky Chamber Sr. Vice President of Public Affairs Kate Shanks and Sr. Policy Analyst Dr. Charles Aull will lead a discussion with real-time participant polling on Kentucky's workforce opportunities\, tax code improvements\, and other key indicators of business competitiveness.\n\nWe want to hear from you about what you need to be more competitive and what makes your region unique ahead of the 2022 Legislative Session.\n\nWho should attend? Business leaders of all sizes and sectors of the economy.\n\n\n\nPlease RSVP to the link above! Must register to attend.
X-ALT-DESC;FMTTYPE=text/html:<span style="border:1pt none windowtext\;padding:0in\;background:white\;"><span style="font-family:arial\,sans-serif\;"><span style="font-size:10pt\;">Join the Kentucky Chamber and the Hopkins County Chamber for an interactive discussion on what makes your region competitive for business and how we can improve your competitiveness.</span></span></span><br />\n<span style="font-family:arial\,sans-serif\;"><span style="font-size:10pt\;">Kentucky Chamber Sr. Vice President of Public Affairs Kate Shanks and Sr. Policy Analyst Dr. Charles Aull will lead a discussion with real-time participant polling on Kentucky&#39\;s workforce opportunities\, tax code improvements\, and other key indicators of business competitiveness.</span></span><br />\n<span style="font-size:10pt\;"><span style="font-family:arial\,sans-serif\;">We want to hear from you about what you need to be more competitive and what makes your region unique ahead of the 2022 Legislative Session.</span></span><br />\n<strong><span style="border:1pt none windowtext\;padding:0in\;"><span style="font-family:arial\,sans-serif\;"><span style="font-size:10pt\;">Who should attend?</span></span></span></strong><span style="font-family:arial\,sans-serif\;"><span style="font-size:10pt\;">&nbsp\;Business leaders of all sizes and sectors of the economy.<br />\n<br />\nPlease RSVP to the link above! Must register to attend.&nbsp\;</span></span>
LOCATION:Mahr Park - Event Barn A 642 Nebo Road\, Madisonville KY\, 42431
UID:e.1578.5311
SEQUENCE:3
DTSTAMP:20260424T054114Z
URL:https://business.hopkinschamber.com/events/details/time-to-compete-tour-5311
END:VEVENT

END:VCALENDAR
