BEGIN:VCALENDAR
VERSION:2.0
PRODID:-//ChamberMaster//Event Calendar 2.0//EN
METHOD:PUBLISH
X-PUBLISHED-TTL:P3D
REFRESH-INTERVAL:P3D
CALSCALE:GREGORIAN
BEGIN:VEVENT
DTSTART:20200424T000000Z
DTEND:20200424T020000Z
X-MICROSOFT-CDO-ALLDAYEVENT:FALSE
SUMMARY:The MCC Singers with Shaun Johnson's Big Band Experience & Topic Sol-Fa
DESCRIPTION:The MCC Singers with Special Gues Shaun Johnson's Big Band Experience & Topic Sol-Fa
X-ALT-DESC;FMTTYPE=text/html:The MCC Singers with Special Gues Shaun Johnson&#39\;s Big Band Experience &amp\; Topic Sol-Fa
LOCATION:The Glema Mahr Center For The Arts
UID:e.1578.3865
SEQUENCE:3
DTSTAMP:20260421T213421Z
URL:https://business.hopkinschamber.com/events/details/the-mcc-singers-with-shaun-johnson-s-big-band-experience-topic-sol-fa-3865
END:VEVENT

END:VCALENDAR
