BEGIN:VCALENDAR
VERSION:2.0
PRODID:-//ChamberMaster//Event Calendar 2.0//EN
METHOD:PUBLISH
X-PUBLISHED-TTL:P3D
REFRESH-INTERVAL:P3D
CALSCALE:GREGORIAN
BEGIN:VEVENT
DTSTART:20191122T150000Z
DTEND:20191122T210000Z
X-MICROSOFT-CDO-ALLDAYEVENT:FALSE
SUMMARY:The KY Chamber's Free Workshop
DESCRIPTION:For employers - free workshop but must register. See the Hopkins County Regional Chamber of Commerce Newsletter for more information. Various topics discussed regarding workplace substance abuse\, prevention and treatment\, and recovery.
X-ALT-DESC;FMTTYPE=text/html:<span style="color: rgb(60\, 64\, 67)\; font-family: Roboto\, Arial\, sans-serif\; font-size: 14px\; letter-spacing: 0.2px\; white-space: pre-wrap\; background-color: rgb(255\, 255\, 255)\;">For employers - free workshop but must register. See the Hopkins County Regional Chamber of Commerce Newsletter for more information. Various topics discussed regarding workplace substance abuse\, prevention and treatment\, and recovery.</span>
LOCATION:Public Works Facility 1449 Corporate Court Henderson\, KY
UID:e.1578.2301
SEQUENCE:3
DTSTAMP:20260421T174428Z
URL:https://business.hopkinschamber.com/events/details/the-ky-chamber-s-free-workshop-2301
END:VEVENT

END:VCALENDAR
