BEGIN:VCALENDAR
VERSION:2.0
PRODID:-//ChamberMaster//Event Calendar 2.0//EN
METHOD:PUBLISH
X-PUBLISHED-TTL:P3D
REFRESH-INTERVAL:P3D
CALSCALE:GREGORIAN
BEGIN:VEVENT
DTSTART:20200416T000000Z
DTEND:20200416T020000Z
X-MICROSOFT-CDO-ALLDAYEVENT:FALSE
SUMMARY:The Kingdom Choir - Center Stage Series
DESCRIPTION:The Kingdom Choir - Center Stage Series
X-ALT-DESC;FMTTYPE=text/html:The Kingdom Choir - Center Stage Series
LOCATION:The Glema Mahr Center For The Arts
UID:e.1578.3864
SEQUENCE:3
DTSTAMP:20260421T213420Z
URL:https://business.hopkinschamber.com/events/details/the-kingdom-choir-center-stage-series-3864
END:VEVENT

END:VCALENDAR
