BEGIN:VCALENDAR
VERSION:2.0
PRODID:-//ChamberMaster//Event Calendar 2.0//EN
METHOD:PUBLISH
X-PUBLISHED-TTL:P3D
REFRESH-INTERVAL:P3D
CALSCALE:GREGORIAN
BEGIN:VEVENT
DTSTART:20200115T013000Z
DTEND:20200115T030000Z
X-MICROSOFT-CDO-ALLDAYEVENT:FALSE
SUMMARY:The Glema Mahr Chamber Music Series - Carr-Petrova Due-Viola/Piano
DESCRIPTION:
X-ALT-DESC;FMTTYPE=text/html:
LOCATION:The Glema Mahr Center for the Arts
UID:e.1578.3858
SEQUENCE:3
DTSTAMP:20260422T014445Z
URL:https://business.hopkinschamber.com/events/details/the-glema-mahr-chamber-music-series-carr-petrova-due-viola-piano-3858
END:VEVENT

END:VCALENDAR
