BEGIN:VCALENDAR
VERSION:2.0
PRODID:-//ChamberMaster//Event Calendar 2.0//EN
METHOD:PUBLISH
X-PUBLISHED-TTL:P3D
REFRESH-INTERVAL:P3D
CALSCALE:GREGORIAN
BEGIN:VEVENT
DTSTART;VALUE=DATE:20130802
DTEND;VALUE=DATE:20130805
TRANSP:TRANSPARENT
X-MICROSOFT-CDO-ALLDAYEVENT:TRUE
SUMMARY:The Dust Bowl Presented by Light of Chance\, Inc.
DESCRIPTION:The Dust Bowl Presented by Light of Chance\, Inc. August 2-4 Dr. Festus Claybon Park (Hopewell St.) Madisonville\, KY Entry Fees: $200 Mens Open $150 High School Girls Division $150 High School Boys Division Pool Play Guaranteed 3 Games Free: Health Screenings Back-to-School Haircuts School Supplies Organ Donor Drive For More Info Contact: Eric Logan 270.339.0717 eric.logan@lightofchance.org Perry Brown 270.792.4507 pjbrown@talladega.edu lightofchance.org
X-ALT-DESC;FMTTYPE=text/html:The Dust Bowl Presented by Light of Chance\, Inc. August 2-4 Dr. Festus Claybon Park (Hopewell St.) Madisonville\, KY Entry Fees: $200 Mens Open $150 High School Girls Division $150 High School Boys Division Pool Play Guaranteed 3 Games Free: Health Screenings Back-to-School Haircuts School Supplies Organ Donor Drive For More Info Contact: Eric Logan 270.339.0717 eric.logan@lightofchance.org Perry Brown 270.792.4507 pjbrown@talladega.edu lightofchance.org 
LOCATION:Dr. Festus Claybon Park (Hopewell St.) Madisonville\, KY
UID:e.1578.63
SEQUENCE:3
DTSTAMP:20260422T175034Z
URL:https://business.hopkinschamber.com/events/details/the-dust-bowl-presented-by-light-of-chance-inc-08-02-2013-63
END:VEVENT

END:VCALENDAR
