BEGIN:VCALENDAR
VERSION:2.0
PRODID:-//ChamberMaster//Event Calendar 2.0//EN
METHOD:PUBLISH
X-PUBLISHED-TTL:P3D
REFRESH-INTERVAL:P3D
CALSCALE:GREGORIAN
BEGIN:VEVENT
DTSTART:20200301T013000Z
DTEND:20200301T033000Z
X-MICROSOFT-CDO-ALLDAYEVENT:FALSE
SUMMARY:The Barefoot Movement - Bluegrass
DESCRIPTION:The Barefoot Movement - Bluegrass - Hancock Bank & Trust Coffeehouse Series
X-ALT-DESC;FMTTYPE=text/html:The Barefoot Movement - Bluegrass - Hancock Bank &amp\; Trust Coffeehouse Series
LOCATION:The Glema Mahr Center For The Arts
UID:e.1578.3861
SEQUENCE:3
DTSTAMP:20260421T235224Z
URL:https://business.hopkinschamber.com/events/details/the-barefoot-movement-bluegrass-3861
END:VEVENT

END:VCALENDAR
