BEGIN:VCALENDAR
VERSION:2.0
PRODID:-//ChamberMaster//Event Calendar 2.0//EN
METHOD:PUBLISH
X-PUBLISHED-TTL:P3D
REFRESH-INTERVAL:P3D
CALSCALE:GREGORIAN
BEGIN:VEVENT
DTSTART:20220114T180000Z
DTEND:20220114T183000Z
X-MICROSOFT-CDO-ALLDAYEVENT:FALSE
SUMMARY:T-Mobile Ribbon Cutting
DESCRIPTION:Join us in welcoming the new T-Mobile store into our community\, and take part in the discounts and activities going on in-store!
X-ALT-DESC;FMTTYPE=text/html:Join us in welcoming the new T-Mobile store into our community\, and take part in the discounts and activities going on in-store!
LOCATION:49 Madison Square Drive Madisonville\, KY 42431
UID:e.1578.5326
SEQUENCE:3
DTSTAMP:20260421T134707Z
URL:https://business.hopkinschamber.com/events/details/t-mobile-ribbon-cutting-5326
END:VEVENT

END:VCALENDAR
