BEGIN:VCALENDAR
VERSION:2.0
PRODID:-//ChamberMaster//Event Calendar 2.0//EN
METHOD:PUBLISH
X-PUBLISHED-TTL:P3D
REFRESH-INTERVAL:P3D
CALSCALE:GREGORIAN
BEGIN:VEVENT
DTSTART:20220927T223000Z
DTEND:20220928T000000Z
X-MICROSOFT-CDO-ALLDAYEVENT:FALSE
SUMMARY:Sweet Feet
DESCRIPTION:Celebrate ten years of Happy Feet with us! Hosted by Wayne Hart with a silent auction\, dinner by Catering and Creations\, and more!\n\nEach ticket purchased provides one pair of shoes for the children of Hopkins County Schools.
X-ALT-DESC;FMTTYPE=text/html:Celebrate ten years of Happy Feet with us! Hosted by Wayne Hart with a silent auction\, dinner by Catering and Creations\, and more!<br />\nEach ticket purchased provides one pair of shoes for the children of Hopkins County Schools.
LOCATION:Mahr Park Arboretum
UID:e.1578.5925
SEQUENCE:3
DTSTAMP:20260423T121157Z
URL:https://business.hopkinschamber.com/events/details/sweet-feet-5925
END:VEVENT

END:VCALENDAR
