BEGIN:VCALENDAR
VERSION:2.0
PRODID:-//ChamberMaster//Event Calendar 2.0//EN
METHOD:PUBLISH
X-PUBLISHED-TTL:P3D
REFRESH-INTERVAL:P3D
CALSCALE:GREGORIAN
BEGIN:VEVENT
DTSTART:20130709T223000Z
DTEND:20130710T000000Z
X-MICROSOFT-CDO-ALLDAYEVENT:FALSE
SUMMARY:Summer Vegetable Disease Seminar & Ice Cream Social
DESCRIPTION:Sponsored by Pennyroyal Master Gardeners/Hopkins County Cooperative Extension. Learn about vegetable crop diseases that concern homeowners and commercial growers\, plus organic alternatives.
X-ALT-DESC;FMTTYPE=text/html:Sponsored by Pennyroyal Master Gardeners/Hopkins County Cooperative Extension. Learn about vegetable crop diseases that concern homeowners and commercial growers\, plus organic alternatives.
LOCATION:Hanson Berry Farms\, 3178 Eastlawn Road\, Hanson
UID:e.1578.68
SEQUENCE:3
DTSTAMP:20260422T190504Z
URL:https://business.hopkinschamber.com/events/details/summer-vegetable-disease-seminar-ice-cream-social-07-09-2013-68
END:VEVENT

END:VCALENDAR
