BEGIN:VCALENDAR
VERSION:2.0
PRODID:-//ChamberMaster//Event Calendar 2.0//EN
METHOD:PUBLISH
X-PUBLISHED-TTL:P3D
REFRESH-INTERVAL:P3D
CALSCALE:GREGORIAN
BEGIN:VEVENT
DTSTART:20210702T200000Z
DTEND:20210705T020000Z
X-MICROSOFT-CDO-ALLDAYEVENT:FALSE
SUMMARY:Summer Concert Festival Series
DESCRIPTION:Headline concerts on the main stage include:  Bret Michaels\, En Vogue\, and Zach Williams.  Also performing on the main stage :  The 101st Airborne Rock Band\, Laine Hardy\, Dillion James\, and Jordan Smith.  Gates open to the main stage seating area each day at 3:00 pm CDT.  Fans and guests interested in attending any or all of the concerts are strongly encouraged to sign up for the email newsletter at MadisonvilleLiving.com.  Detailed information on seating\, protocols\, and event updates will be communicated directly with those wishing to attend.  For more information contact The City of Madisonville.
X-ALT-DESC;FMTTYPE=text/html:Headline concerts on the main stage include:&nbsp\; Bret Michaels\, En Vogue\, and Zach Williams.&nbsp\; Also performing on the main stage :&nbsp\; The 101st Airborne Rock Band\, Laine Hardy\, Dillion James\, and Jordan Smith.&nbsp\; Gates open to the main stage seating area each day at 3:00 pm CDT.&nbsp\; Fans and guests interested in attending any or all of the concerts are strongly encouraged to sign up for the email newsletter at MadisonvilleLiving.com.&nbsp\; Detailed information on seating\, protocols\, and event updates will be communicated directly with those wishing to attend.&nbsp\; For more information contact The City of Madisonville.
LOCATION:Madisonville City Park
UID:e.1578.4518
SEQUENCE:3
DTSTAMP:20260421T180403Z
URL:https://business.hopkinschamber.com/events/details/summer-concert-festival-series-4518
END:VEVENT

END:VCALENDAR
