BEGIN:VCALENDAR
VERSION:2.0
PRODID:-//ChamberMaster//Event Calendar 2.0//EN
METHOD:PUBLISH
X-PUBLISHED-TTL:P3D
REFRESH-INTERVAL:P3D
CALSCALE:GREGORIAN
BEGIN:VEVENT
DTSTART:20141004T140000Z
DTEND:20141004T170000Z
X-MICROSOFT-CDO-ALLDAYEVENT:FALSE
SUMMARY:StayFit 24 Boot Camp for Charity
DESCRIPTION:StayFit 24 trainers Greg Vaughn and Ben Campbell are offering a Boot Camp for anyone interested in training for a 5K.\n\n\n\nBoot camp will include proper warm up techniques\, training program\, nutritional guidelines\, and a fun workout for any fitness level.
X-ALT-DESC;FMTTYPE=text/html:StayFit 24 trainers Greg Vaughn and Ben Campbell are offering a Boot Camp for anyone interested in training for a 5K.<br />\n<br />\nBoot camp will include proper warm up techniques\, training program\, nutritional guidelines\, and a fun workout for any fitness level.
LOCATION:Madisonville City Park
UID:e.1578.471
SEQUENCE:3
DTSTAMP:20260425T142524Z
URL:https://business.hopkinschamber.com/events/details/stayfit-24-boot-camp-for-charity-10-04-2014-471
END:VEVENT

END:VCALENDAR
