BEGIN:VCALENDAR
VERSION:2.0
PRODID:-//ChamberMaster//Event Calendar 2.0//EN
METHOD:PUBLISH
X-PUBLISHED-TTL:P3D
REFRESH-INTERVAL:P3D
CALSCALE:GREGORIAN
BEGIN:VEVENT
DTSTART:20140902T170000Z
DTEND:20140902T183000Z
X-MICROSOFT-CDO-ALLDAYEVENT:FALSE
SUMMARY:State of the County Luncheon
DESCRIPTION:Join us for the State of the County Luncheon. Featured speakers include Hopkins County Judge-Executive Donnie Carroll and Madisonville Mayor David Jackson. Mayors of other incorporated cities in Hopkins County are also invited to speak.
X-ALT-DESC;FMTTYPE=text/html:Join us for the State of the County Luncheon. Featured speakers include Hopkins County Judge-Executive Donnie Carroll and Madisonville Mayor David Jackson. Mayors of other incorporated cities in Hopkins County are also invited to speak.
LOCATION:First United Methodist Church\, 200 E. Center St.\, Madisonville
UID:e.1578.455
SEQUENCE:3
DTSTAMP:20260423T080039Z
URL:https://business.hopkinschamber.com/events/details/state-of-the-county-luncheon-09-02-2014-455
END:VEVENT

END:VCALENDAR
