BEGIN:VCALENDAR
VERSION:2.0
PRODID:-//ChamberMaster//Event Calendar 2.0//EN
METHOD:PUBLISH
X-PUBLISHED-TTL:P3D
REFRESH-INTERVAL:P3D
CALSCALE:GREGORIAN
BEGIN:VEVENT
DTSTART:20130709T163000Z
DTEND:20130709T180000Z
X-MICROSOFT-CDO-ALLDAYEVENT:FALSE
SUMMARY:State of the City & County Luncheon
DESCRIPTION:Join us for lunch and hear our city and county officials share insights about progress in our region.
X-ALT-DESC;FMTTYPE=text/html:Join us for lunch and hear our city and county officials share insights about progress in our region.&nbsp\;&nbsp\;&nbsp\;&nbsp\;&nbsp\;&nbsp\;&nbsp\;&nbsp\;
LOCATION:Madisonville Community Golf Course meeting room\, 105 Country Club Lane\, Madisonville
UID:e.1578.42
SEQUENCE:3
DTSTAMP:20260424T040308Z
URL:https://business.hopkinschamber.com/events/details/state-of-the-city-county-luncheon-07-09-2013-42
END:VEVENT

END:VCALENDAR
