BEGIN:VCALENDAR
VERSION:2.0
PRODID:-//ChamberMaster//Event Calendar 2.0//EN
METHOD:PUBLISH
X-PUBLISHED-TTL:P3D
REFRESH-INTERVAL:P3D
CALSCALE:GREGORIAN
BEGIN:VEVENT
DTSTART:20250305T133000Z
DTEND:20250305T150000Z
X-MICROSOFT-CDO-ALLDAYEVENT:FALSE
SUMMARY:State of the Cities & County Address
DESCRIPTION:The Chamber's Annual State of the Cities and County event is one of our most anticipated political events each year. This event gives the highest elected officials of our county and our nine incorporated cities a platform to answer questions from citizens on the progress of\, and challenges faced by our communities. This is an opportunity to hear directly from the leaders on the front lines of local decision-making that directly impacts your businesses and your families.
X-ALT-DESC;FMTTYPE=text/html:<span style="color: rgb(28\, 43\, 51)\; font-family: -apple-system\, BlinkMacSystemFont\, &quot\;Segoe UI&quot\;\, Roboto\, Helvetica\, Arial\, sans-serif\, &quot\;Apple Color Emoji&quot\;\, &quot\;Segoe UI Emoji&quot\;\, &quot\;Segoe UI Symbol&quot\;\; font-size: 14px\; white-space-collapse: preserve\; background-color: rgb(255\, 255\, 255)\;">The Chamber&rsquo\;s Annual State of the Cities and County event is one of our most anticipated political events each year. This event gives the highest elected officials of our county and our nine incorporated cities a platform to answer questions from citizens on the progress of\, and challenges faced by our communities. This is an opportunity to hear directly from the leaders on the front lines of local decision-making that directly impacts your businesses and your families.</span>
LOCATION:Ballard Convention Center 605 E. Arch St. Madisonville\, KY 42431
UID:e.1578.6017
SEQUENCE:3
DTSTAMP:20260419T221352Z
URL:https://business.hopkinschamber.com/events/details/state-of-the-cities-county-address-6017
END:VEVENT

END:VCALENDAR
