BEGIN:VCALENDAR
VERSION:2.0
PRODID:-//ChamberMaster//Event Calendar 2.0//EN
METHOD:PUBLISH
X-PUBLISHED-TTL:P3D
REFRESH-INTERVAL:P3D
CALSCALE:GREGORIAN
BEGIN:VEVENT
DTSTART:20180322T163000Z
DTEND:20180322T180000Z
X-MICROSOFT-CDO-ALLDAYEVENT:FALSE
SUMMARY:State of the Cities and County luncheon
DESCRIPTION:State of the Cities and County luncheon
X-ALT-DESC;FMTTYPE=text/html:State of the Cities and County luncheon
LOCATION:First United Methodist Church 200 East Center Street Madisonville\, KY 42431
UID:e.1578.804
SEQUENCE:3
DTSTAMP:20260423T085910Z
URL:https://business.hopkinschamber.com/events/details/state-of-the-cities-and-county-luncheon-804
END:VEVENT

END:VCALENDAR
