BEGIN:VCALENDAR
VERSION:2.0
PRODID:-//ChamberMaster//Event Calendar 2.0//EN
METHOD:PUBLISH
X-PUBLISHED-TTL:P3D
REFRESH-INTERVAL:P3D
CALSCALE:GREGORIAN
BEGIN:VEVENT
DTSTART:20150326T163000Z
DTEND:20150326T180000Z
X-MICROSOFT-CDO-ALLDAYEVENT:FALSE
SUMMARY:State of Education Luncheon
DESCRIPTION:Discover how local education services are impacting Hopkins County at this informative luncheon hosted by Madisonville Community College and Murray State University. Admission is free but RSVPs are required.
X-ALT-DESC;FMTTYPE=text/html:Discover how local education services are impacting Hopkins County at this informative&nbsp\;luncheon hosted by Madisonville Community College and Murray State University. Admission is free but RSVPs are required.
LOCATION:Ballard Convention Center\, 605 E. Arch St.\, Madisonville
UID:e.1578.492
SEQUENCE:3
DTSTAMP:20260422T233045Z
URL:https://business.hopkinschamber.com/events/details/state-of-education-luncheon-03-26-2015-492
END:VEVENT

END:VCALENDAR
