BEGIN:VCALENDAR
VERSION:2.0
PRODID:-//ChamberMaster//Event Calendar 2.0//EN
METHOD:PUBLISH
X-PUBLISHED-TTL:P3D
REFRESH-INTERVAL:P3D
CALSCALE:GREGORIAN
BEGIN:VEVENT
DTSTART:20290913T230000Z
DTEND:20290914T000000Z
X-MICROSOFT-CDO-ALLDAYEVENT:FALSE
SUMMARY:St. Charles City Commission
DESCRIPTION:
X-ALT-DESC;FMTTYPE=text/html:
LOCATION:
UID:e.1578.3681
SEQUENCE:3
DTSTAMP:20260421T124343Z
URL:https://business.hopkinschamber.com/events/details/st-charles-city-commission-09-13-2029-3681
END:VEVENT

END:VCALENDAR
