BEGIN:VCALENDAR
VERSION:2.0
PRODID:-//ChamberMaster//Event Calendar 2.0//EN
METHOD:PUBLISH
X-PUBLISHED-TTL:P3D
REFRESH-INTERVAL:P3D
CALSCALE:GREGORIAN
BEGIN:VEVENT
DTSTART;VALUE=DATE:20130514
DTEND;VALUE=DATE:20130515
TRANSP:TRANSPARENT
X-MICROSOFT-CDO-ALLDAYEVENT:TRUE
SUMMARY:Spring Showcase: Breathe | Youth Arts Program
DESCRIPTION:Breathe is a community based youth development program of Light of Chance\, Inc. Breathe provides after-school arts sessions offered free of charge for grades 5-12. The program Fosters artistic expression\, leadership and social skills through arts such as visual\, music\, dance\, and creative writing & poetry. Program operates every Tuesday from 3:30-6:00 at the Rosenwald-Smith Multi-Cultural Center located at 208 N. Kentucky Ave.
X-ALT-DESC;FMTTYPE=text/html:Breathe is a community based youth development program of Light of Chance\, Inc. Breathe provides after-school arts sessions offered free of charge for grades 5-12. The program Fosters artistic expression\, leadership and social skills through arts such as visual\, music\, dance\, and creative writing &amp\; poetry. Program operates every Tuesday from 3:30-6:00 at the Rosenwald-Smith Multi-Cultural Center located at 208 N. Kentucky Ave.
LOCATION:Madisonville City Park\, 755 Park Ave.
UID:e.1578.45
SEQUENCE:3
DTSTAMP:20260422T231758Z
URL:https://business.hopkinschamber.com/events/details/spring-showcase-breathe-youth-arts-program-05-14-2013-45
END:VEVENT

END:VCALENDAR
