BEGIN:VCALENDAR
VERSION:2.0
PRODID:-//ChamberMaster//Event Calendar 2.0//EN
METHOD:PUBLISH
X-PUBLISHED-TTL:P3D
REFRESH-INTERVAL:P3D
CALSCALE:GREGORIAN
BEGIN:VEVENT
DTSTART:20160823T220000Z
DTEND:20160823T230000Z
X-MICROSOFT-CDO-ALLDAYEVENT:FALSE
SUMMARY:Speak Up! Hopkins County Visioning Session
DESCRIPTION:Speak Up! Hopkins County Visioning Session.\n\nShare your vision for Hopkins County's future at this visioning session. All ages are invited to attend. The event is free. For more information call the Hopkins County Regional Chamber of Commerce at 270-821-3435.
X-ALT-DESC;FMTTYPE=text/html:Speak Up! Hopkins County Visioning Session.<br />\n<span style="font-size:11.0pt">Share your vision for Hopkins County&rsquo\;s future at this visioning session. All ages are invited to attend. The event is free. For more information call the Hopkins County Regional Chamber of Commerce at <a href="tel:270-821-3435" target="_blank" value="+12708213435">270-821-3435</a>.</span>
LOCATION:8th Floor Baptist Health Tower
UID:e.1578.603
SEQUENCE:3
DTSTAMP:20260422T001332Z
URL:https://business.hopkinschamber.com/events/details/speak-up-hopkins-county-visioning-session-08-23-2016-603
END:VEVENT

END:VCALENDAR
