BEGIN:VCALENDAR
VERSION:2.0
PRODID:-//ChamberMaster//Event Calendar 2.0//EN
METHOD:PUBLISH
X-PUBLISHED-TTL:P3D
REFRESH-INTERVAL:P3D
CALSCALE:GREGORIAN
BEGIN:VEVENT
DTSTART:20130815T170000Z
DTEND:20130815T183000Z
X-MICROSOFT-CDO-ALLDAYEVENT:FALSE
SUMMARY:SOLD OUT - Hot Topic Lunch with U.S. Sen. Rand Paul
DESCRIPTION:U.S. Sen. Rand Paul will be the featured speaker at this Hot Topic Luncheon.
X-ALT-DESC;FMTTYPE=text/html:U.S. Sen. Rand Paul will be the featured speaker at this Hot Topic Luncheon.
LOCATION:Baptist Health Madisonville Medical Associates Building B\, 8th floor conference room\, 200 Clinic Drive\, Madisonville
UID:e.1578.74
SEQUENCE:3
DTSTAMP:20260424T021425Z
URL:https://business.hopkinschamber.com/events/details/sold-out-hot-topic-lunch-with-u-s-sen-rand-paul-08-15-2013-74
END:VEVENT

END:VCALENDAR
