BEGIN:VCALENDAR
VERSION:2.0
PRODID:-//ChamberMaster//Event Calendar 2.0//EN
METHOD:PUBLISH
X-PUBLISHED-TTL:P3D
REFRESH-INTERVAL:P3D
CALSCALE:GREGORIAN
BEGIN:VEVENT
DTSTART:20211021T220000Z
DTEND:20211022T010000Z
X-MICROSOFT-CDO-ALLDAYEVENT:FALSE
SUMMARY:Sippin' On Sugg
DESCRIPTION:If you like to shop\, join the Sugg St. merchants for #SippinOnSugg Thursday\, October 21st from 5-8pm in Downtown Madisonville. Like and follow these Sugg St. Merchant's pages on Facebook for more details: A&M Monogram\, 45-70\, Endless Motion\, Falcon Creek Boutique\, Aster & Ivy\, MadCity Wicks & Wine\, Big City Market & Coffee Bar\, Rickard's Rustic Woodworks\, Scoot Street Designs\, and Makers Market Gift Shop! The following food vendors will be there as well: Family Man's Food Truck.
X-ALT-DESC;FMTTYPE=text/html:<span style="color: rgb(51\, 51\, 51)\; font-family: Roboto\; font-size: 16px\;">If you like to shop\, join the Sugg St. merchants for&nbsp\;</span><a class="oajrlxb2 g5ia77u1 qu0x051f esr5mh6w e9989ue4 r7d6kgcz rq0escxv nhd2j8a9 nc684nl6 p7hjln8o kvgmc6g5 cxmmr5t8 oygrvhab hcukyx3x jb3vyjys rz4wbd8a qt6c0cv9 a8nywdso i1ao9s8h esuyzwwr f1sip0of lzcic4wl q66pz984 gpro0wi8 b1v8xokw" href="https://www.facebook.com/hashtag/sippinonsugg?__eep__=6&amp\;__cft__[0]=AZX46mhqnf7WAw0xQRuL5811Qp4dZCjZw_X3CnqF3yLhJxAZgkDvpGgV7NqLfM_5gLzicn7S9VC_D63U3VoBTL6mtLjAnrQvRoS9Gwo8upUz7lUH76XDj9d-GtVuf7yy-6VHtYsXHFK442qAJhutN4uD&amp\;__tn__=*NK-R" role="link" style="color: rgb(7\, 130\, 193)\; text-decoration-line: none\; font-family: Roboto\; font-size: 16px\; background-attachment: unset !important\;" tabindex="0">#SippinOnSugg</a><span style="color: rgb(51\, 51\, 51)\; font-family: Roboto\; font-size: 16px\;">&nbsp\;Thursday\, October 21st from 5-8pm in Downtown Madisonville. Like and follow these Sugg St. Merchant&rsquo\;s pages on Facebook for more details: A&amp\;M Monogram\, 45-70\, Endless Motion\, Falcon Creek Boutique\, Aster &amp\; Ivy\, MadCity Wicks &amp\; Wine\, Big City Market &amp\; Coffee Bar\, Rickard&#39\;s Rustic Woodworks\, Scoot Street Designs\, and Makers Market Gift Shop</span><span style="color: rgb(51\, 51\, 51)\; font-family: Roboto\; font-size: 16px\;">! The following food vendors will be there as well: Family Man&#39\;s Food Truck.</span>
LOCATION:Sugg Street in Downtown Madisonville KY\, 42431
UID:e.1578.5292
SEQUENCE:3
DTSTAMP:20260421T150142Z
URL:https://business.hopkinschamber.com/events/details/sippin-on-sugg-5292
END:VEVENT

END:VCALENDAR
