BEGIN:VCALENDAR
VERSION:2.0
PRODID:-//ChamberMaster//Event Calendar 2.0//EN
METHOD:PUBLISH
X-PUBLISHED-TTL:P3D
REFRESH-INTERVAL:P3D
CALSCALE:GREGORIAN
BEGIN:VEVENT
DTSTART:20250410T210000Z
DTEND:20250411T010000Z
X-MICROSOFT-CDO-ALLDAYEVENT:FALSE
SUMMARY:Sip N Stroll
DESCRIPTION:Join Madisonville Noon Kiwanis for their Sip N Stroll event in downtown Madisonville\, KY! More details to come!
X-ALT-DESC;FMTTYPE=text/html:Join Madisonville Noon Kiwanis for their Sip N Stroll event in downtown Madisonville\, KY! More details to come!
LOCATION:
UID:e.1578.6027
SEQUENCE:3
DTSTAMP:20260419T202927Z
URL:https://business.hopkinschamber.com/events/details/sip-n-stroll-6027
END:VEVENT

END:VCALENDAR
