BEGIN:VCALENDAR
VERSION:2.0
PRODID:-//ChamberMaster//Event Calendar 2.0//EN
METHOD:PUBLISH
X-PUBLISHED-TTL:P3D
REFRESH-INTERVAL:P3D
CALSCALE:GREGORIAN
BEGIN:VEVENT
DTSTART:20200603T170000Z
DTEND:20200603T180000Z
X-MICROSOFT-CDO-ALLDAYEVENT:FALSE
SUMMARY:Rotary Club of Madisonville
DESCRIPTION:
X-ALT-DESC;FMTTYPE=text/html:
LOCATION:
UID:e.1578.1406
SEQUENCE:3
DTSTAMP:20260421T184449Z
URL:https://business.hopkinschamber.com/events/details/rotary-club-of-madisonville-06-03-2020-1406
END:VEVENT

END:VCALENDAR
