BEGIN:VCALENDAR
VERSION:2.0
PRODID:-//ChamberMaster//Event Calendar 2.0//EN
METHOD:PUBLISH
X-PUBLISHED-TTL:P3D
REFRESH-INTERVAL:P3D
CALSCALE:GREGORIAN
BEGIN:VEVENT
DTSTART:20180209T133000Z
DTEND:20180209T223000Z
X-MICROSOFT-CDO-ALLDAYEVENT:FALSE
SUMMARY:Roots to Riches
DESCRIPTION:Roots to Riches
X-ALT-DESC;FMTTYPE=text/html:Roots to Riches
LOCATION:Ballard Convention Center 605 East Arch Street Madisonville\, KY 42431
UID:e.1578.802
SEQUENCE:3
DTSTAMP:20260423T100222Z
URL:https://business.hopkinschamber.com/events/details/roots-to-riches-802
END:VEVENT

END:VCALENDAR
