BEGIN:VCALENDAR
VERSION:2.0
PRODID:-//ChamberMaster//Event Calendar 2.0//EN
METHOD:PUBLISH
X-PUBLISHED-TTL:P3D
REFRESH-INTERVAL:P3D
CALSCALE:GREGORIAN
BEGIN:VEVENT
DTSTART:20241016T170000Z
DTEND:20241016T173000Z
X-MICROSOFT-CDO-ALLDAYEVENT:FALSE
SUMMARY:Ribbon Cutting - Y on the Fly Trailer
DESCRIPTION:Join us for the ribbon-cutting ceremony celebrating the new Y on the Fly trailer!
X-ALT-DESC;FMTTYPE=text/html:Join us for the ribbon-cutting ceremony celebrating the new Y on the Fly trailer!&nbsp\;
LOCATION:150 YMCA Dr. Madisonville\, KY 42431
UID:e.1578.6012
SEQUENCE:3
DTSTAMP:20260420T060240Z
URL:https://business.hopkinschamber.com/events/details/ribbon-cutting-y-on-the-fly-trailer-6012
END:VEVENT

END:VCALENDAR
