BEGIN:VCALENDAR
VERSION:2.0
PRODID:-//ChamberMaster//Event Calendar 2.0//EN
METHOD:PUBLISH
X-PUBLISHED-TTL:P3D
REFRESH-INTERVAL:P3D
CALSCALE:GREGORIAN
BEGIN:VEVENT
DTSTART:20150618T163000Z
DTEND:20150618T170000Z
X-MICROSOFT-CDO-ALLDAYEVENT:FALSE
SUMMARY:Ribbon Cutting @ Verizon Wireless Zone
DESCRIPTION:Celebrate the opening of Madisonville's new Verizon Wireless store.
X-ALT-DESC;FMTTYPE=text/html:Celebrate the opening of Madisonville&#39\;s new Verizon Wireless store.
LOCATION:
UID:e.1578.510
SEQUENCE:3
DTSTAMP:20260421T124240Z
URL:https://business.hopkinschamber.com/events/details/ribbon-cutting-verizon-wireless-zone-06-18-2015-510
END:VEVENT

END:VCALENDAR
