BEGIN:VCALENDAR
VERSION:2.0
PRODID:-//ChamberMaster//Event Calendar 2.0//EN
METHOD:PUBLISH
X-PUBLISHED-TTL:P3D
REFRESH-INTERVAL:P3D
CALSCALE:GREGORIAN
BEGIN:VEVENT
DTSTART:20141006T163000Z
DTEND:20141006T170000Z
X-MICROSOFT-CDO-ALLDAYEVENT:FALSE
SUMMARY:Ribbon Cutting @ Train to Win Sports featuring Keenan Butler
DESCRIPTION:Join us as we celebrate the grand opening of Train to Win Sports! Former NFL player and UK football star Keenan Butler will be there\, so you don't want to miss it! Bring the kids at 2 p.m. to hear a special motivational talk by Keenan.
X-ALT-DESC;FMTTYPE=text/html:Join us as we celebrate the grand opening of Train to Win Sports! Former NFL player and UK football star Keenan Butler will be there\, so you don&#39\;t want to miss it! Bring the kids at 2 p.m. to hear a special motivational talk by Keenan.
LOCATION:1395 Briarwood Drive\, Madisonville\, KY 42431
UID:e.1578.467
SEQUENCE:3
DTSTAMP:20260423T062617Z
URL:https://business.hopkinschamber.com/events/details/ribbon-cutting-train-to-win-sports-featuring-keenan-butler-10-06-2014-467
END:VEVENT

END:VCALENDAR
