BEGIN:VCALENDAR
VERSION:2.0
PRODID:-//ChamberMaster//Event Calendar 2.0//EN
METHOD:PUBLISH
X-PUBLISHED-TTL:P3D
REFRESH-INTERVAL:P3D
CALSCALE:GREGORIAN
BEGIN:VEVENT
DTSTART:20121102T163000Z
DTEND:20121102T170000Z
X-MICROSOFT-CDO-ALLDAYEVENT:FALSE
SUMMARY:Ribbon Cutting - Tiny Town Too
DESCRIPTION:Join us for a ribbon cutting to welcome our newest member\, Tiny Town Too\, located at 708 S. Main\, Madisonville. Refreshments and lots of great Holiday Open House specials.
X-ALT-DESC;FMTTYPE=text/html:Join us for a ribbon cutting to welcome our newest member\, Tiny Town Too\, located at 708 S. Main\, Madisonville. Refreshments and lots of great Holiday Open House specials.
LOCATION:
UID:e.1578.13
SEQUENCE:3
DTSTAMP:20260424T140545Z
URL:https://business.hopkinschamber.com/events/details/ribbon-cutting-tiny-town-too-11-02-2012-13
END:VEVENT

END:VCALENDAR
