BEGIN:VCALENDAR
VERSION:2.0
PRODID:-//ChamberMaster//Event Calendar 2.0//EN
METHOD:PUBLISH
X-PUBLISHED-TTL:P3D
REFRESH-INTERVAL:P3D
CALSCALE:GREGORIAN
BEGIN:VEVENT
DTSTART:20130319T220000Z
DTEND:20130319T221500Z
X-MICROSOFT-CDO-ALLDAYEVENT:FALSE
SUMMARY:Ribbon Cutting-The Crowded House
DESCRIPTION:Join us for a ribbon cutting to celebrate the completion of renovations and expansion for The Crowded House.
X-ALT-DESC;FMTTYPE=text/html:Join us for a ribbon cutting to celebrate the completion of renovations and expansion for The Crowded House.&nbsp\;&nbsp\;&nbsp\;&nbsp\;
LOCATION:25 West Center St.\, Madisonville
UID:e.1578.40
SEQUENCE:3
DTSTAMP:20260424T085254Z
URL:https://business.hopkinschamber.com/events/details/ribbon-cutting-the-crowded-house-03-19-2013-40
END:VEVENT

END:VCALENDAR
