BEGIN:VCALENDAR
VERSION:2.0
PRODID:-//ChamberMaster//Event Calendar 2.0//EN
METHOD:PUBLISH
X-PUBLISHED-TTL:P3D
REFRESH-INTERVAL:P3D
CALSCALE:GREGORIAN
BEGIN:VEVENT
DTSTART:20130815T160000Z
DTEND:20130815T163000Z
X-MICROSOFT-CDO-ALLDAYEVENT:FALSE
SUMMARY:Ribbon Cutting - Ridgewood Terrace "Bridge to Home" unit
DESCRIPTION:Help Ridgewood Terrace Health and Rehabilitation Center celebrate the opening of their new "A Bridge to Home" unit.
X-ALT-DESC;FMTTYPE=text/html:Help Ridgewood Terrace Health and Rehabilitation Center celebrate the opening of their new &quot\;A Bridge to Home&quot\; unit.
LOCATION:425 Island Ford Road\, Madisonville
UID:e.1578.73
SEQUENCE:3
DTSTAMP:20260424T021248Z
URL:https://business.hopkinschamber.com/events/details/ribbon-cutting-ridgewood-terrace-bridge-to-home-unit-08-15-2013-73
END:VEVENT

END:VCALENDAR
