BEGIN:VCALENDAR
VERSION:2.0
PRODID:-//ChamberMaster//Event Calendar 2.0//EN
METHOD:PUBLISH
X-PUBLISHED-TTL:P3D
REFRESH-INTERVAL:P3D
CALSCALE:GREGORIAN
BEGIN:VEVENT
DTSTART:20130822T163000Z
DTEND:20130822T170000Z
X-MICROSOFT-CDO-ALLDAYEVENT:FALSE
SUMMARY:Ribbon Cutting @ Penny's Vapor Nook
DESCRIPTION:Join us as we welcome Penny's Vapor Nook to the local retail community.
X-ALT-DESC;FMTTYPE=text/html:Join us as we welcome Penny&#39\;s Vapor Nook to the local retail community.
LOCATION:18 North Main\, Madisonville
UID:e.1578.85
SEQUENCE:3
DTSTAMP:20260424T021323Z
URL:https://business.hopkinschamber.com/events/details/ribbon-cutting-penny-s-vapor-nook-08-22-2013-85
END:VEVENT

END:VCALENDAR
