BEGIN:VCALENDAR
VERSION:2.0
PRODID:-//ChamberMaster//Event Calendar 2.0//EN
METHOD:PUBLISH
X-PUBLISHED-TTL:P3D
REFRESH-INTERVAL:P3D
CALSCALE:GREGORIAN
BEGIN:VEVENT
DTSTART:20250618T170000Z
DTEND:20250618T173000Z
X-MICROSOFT-CDO-ALLDAYEVENT:FALSE
SUMMARY:Ribbon Cutting - Park Grove Rehabilitation & Nursing Center
DESCRIPTION:Join us for the ribbon cutting of Park Grove Rehabilitation & Nursing Center\, formerly known as Hillside. They are under new ownership and are celebrating a major facility remodel!
X-ALT-DESC;FMTTYPE=text/html:Join us for the ribbon cutting of Park Grove Rehabilitation &amp\; Nursing Center\, formerly known as Hillside. They are under new ownership and are celebrating a major facility remodel!
LOCATION:1500 Pride Ave Madisonville KY 42431
UID:e.1578.6045
SEQUENCE:3
DTSTAMP:20260419T170933Z
URL:https://business.hopkinschamber.com/events/details/ribbon-cutting-park-grove-rehabilitation-nursing-center-6045
END:VEVENT

END:VCALENDAR
