BEGIN:VCALENDAR
VERSION:2.0
PRODID:-//ChamberMaster//Event Calendar 2.0//EN
METHOD:PUBLISH
X-PUBLISHED-TTL:P3D
REFRESH-INTERVAL:P3D
CALSCALE:GREGORIAN
BEGIN:VEVENT
DTSTART:20130916T213000Z
DTEND:20130916T233000Z
X-MICROSOFT-CDO-ALLDAYEVENT:FALSE
SUMMARY:Ribbon Cutting/Open House - Minority Economic Development Council
DESCRIPTION:Join us as we celebrate the opening of the new Minority Economic Development Council office.
X-ALT-DESC;FMTTYPE=text/html:Join us as we celebrate the opening of the new Minority Economic Development Council office.
LOCATION:15 East Center Street\, Madisonville (inside the Chamber office).
UID:e.1578.87
SEQUENCE:3
DTSTAMP:20260422T164529Z
URL:https://business.hopkinschamber.com/events/details/ribbon-cutting-open-house-minority-economic-development-council-09-16-2013-87
END:VEVENT

END:VCALENDAR
