BEGIN:VCALENDAR
VERSION:2.0
PRODID:-//ChamberMaster//Event Calendar 2.0//EN
METHOD:PUBLISH
X-PUBLISHED-TTL:P3D
REFRESH-INTERVAL:P3D
CALSCALE:GREGORIAN
BEGIN:VEVENT
DTSTART:20131108T190000Z
DTEND:20131108T193000Z
X-MICROSOFT-CDO-ALLDAYEVENT:FALSE
SUMMARY:Ribbon Cutting - Mortons Gap Municipal Building
DESCRIPTION:
X-ALT-DESC;FMTTYPE=text/html:&nbsp\;&nbsp\;&nbsp\;
LOCATION:West Main Street\, Mortons Gap
UID:e.1578.185
SEQUENCE:3
DTSTAMP:20260422T140925Z
URL:https://business.hopkinschamber.com/events/details/ribbon-cutting-mortons-gap-municipal-building-11-08-2013-185
END:VEVENT

END:VCALENDAR
