BEGIN:VCALENDAR
VERSION:2.0
PRODID:-//ChamberMaster//Event Calendar 2.0//EN
METHOD:PUBLISH
X-PUBLISHED-TTL:P3D
REFRESH-INTERVAL:P3D
CALSCALE:GREGORIAN
BEGIN:VEVENT
DTSTART:20130712T163000Z
DTEND:20130712T170000Z
X-MICROSOFT-CDO-ALLDAYEVENT:FALSE
SUMMARY:Ribbon Cutting - Modern Woodmen of America
DESCRIPTION:Join us for a ribbon cutting to celebrate the opening of Modern Woodmen of America-Caleb Nelson office.
X-ALT-DESC;FMTTYPE=text/html:Join us for a ribbon cutting to celebrate the opening of Modern Woodmen of America-Caleb Nelson office.
LOCATION:1850 Lantaff Boulevard\, Suite 202\, Madisonville
UID:e.1578.66
SEQUENCE:3
DTSTAMP:20260424T050550Z
URL:https://business.hopkinschamber.com/events/details/ribbon-cutting-modern-woodmen-of-america-07-12-2013-66
END:VEVENT

END:VCALENDAR
