BEGIN:VCALENDAR
VERSION:2.0
PRODID:-//ChamberMaster//Event Calendar 2.0//EN
METHOD:PUBLISH
X-PUBLISHED-TTL:P3D
REFRESH-INTERVAL:P3D
CALSCALE:GREGORIAN
BEGIN:VEVENT
DTSTART:20140718T163000Z
DTEND:20140718T170000Z
X-MICROSOFT-CDO-ALLDAYEVENT:FALSE
SUMMARY:Ribbon Cutting @ Merle Norman Cosmetics Studio
DESCRIPTION:Join Merle Norman Cosmetics Studio for its grand 20th Anniversary Celebration! See the newly remodeled boutique and discover great anniversary specials. Live remote broadcast by local radio.
X-ALT-DESC;FMTTYPE=text/html:Join Merle Norman Cosmetics Studio for its grand 20th Anniversary Celebration! See the newly remodeled boutique and discover great anniversary specials. Live remote broadcast by local radio.
LOCATION:226 Madison Square Drive\, Madisonville\, KY
UID:e.1578.450
SEQUENCE:3
DTSTAMP:20260423T104726Z
URL:https://business.hopkinschamber.com/events/details/ribbon-cutting-merle-norman-cosmetics-studio-07-18-2014-450
END:VEVENT

END:VCALENDAR
