BEGIN:VCALENDAR
VERSION:2.0
PRODID:-//ChamberMaster//Event Calendar 2.0//EN
METHOD:PUBLISH
X-PUBLISHED-TTL:P3D
REFRESH-INTERVAL:P3D
CALSCALE:GREGORIAN
BEGIN:VEVENT
DTSTART:20140722T160000Z
DTEND:20140723T043000Z
X-MICROSOFT-CDO-ALLDAYEVENT:FALSE
SUMMARY:Ribbon Cutting @ Mark of Distinction
DESCRIPTION:Join us as we help Mark of Distinction celebrate the opening of its new downtown location.
X-ALT-DESC;FMTTYPE=text/html:Join us as we help Mark of Distinction celebrate the opening of its new downtown location.
LOCATION:21 S. Main\, Madisonville
UID:e.1578.447
SEQUENCE:3
DTSTAMP:20260423T104819Z
URL:https://business.hopkinschamber.com/events/details/ribbon-cutting-mark-of-distinction-07-22-2014-447
END:VEVENT

END:VCALENDAR
