BEGIN:VCALENDAR
VERSION:2.0
PRODID:-//ChamberMaster//Event Calendar 2.0//EN
METHOD:PUBLISH
X-PUBLISHED-TTL:P3D
REFRESH-INTERVAL:P3D
CALSCALE:GREGORIAN
BEGIN:VEVENT
DTSTART:20140819T163000Z
DTEND:20140819T170000Z
X-MICROSOFT-CDO-ALLDAYEVENT:FALSE
SUMMARY:Ribbon Cutting @ Manpower
DESCRIPTION:Join us for a ribbon cutting to celebrate the opening of Manpower's new office in Madisonville.
X-ALT-DESC;FMTTYPE=text/html:Join us for a ribbon cutting to celebrate the opening of Manpower&#39\;s new office in Madisonville.
LOCATION:1385 S. Main\, Madisonville
UID:e.1578.453
SEQUENCE:3
DTSTAMP:20260423T092744Z
URL:https://business.hopkinschamber.com/events/details/ribbon-cutting-manpower-08-19-2014-453
END:VEVENT

END:VCALENDAR
